BEGIN:VCALENDAR
VERSION:2.0
PRODID:-//Albion High School Alumni Foundation, Inc. - ECPv4.9.10//NONSGML v1.0//EN
CALSCALE:GREGORIAN
METHOD:PUBLISH
X-WR-CALNAME:Albion High School Alumni Foundation, Inc.
X-ORIGINAL-URL:https://albionalumni.org
X-WR-CALDESC:Events for Albion High School Alumni Foundation, Inc.
BEGIN:VTIMEZONE
TZID:UTC
BEGIN:STANDARD
TZOFFSETFROM:+0000
TZOFFSETTO:+0000
TZNAME:UTC
DTSTART:20180101T000000
END:STANDARD
END:VTIMEZONE
BEGIN:VEVENT
DTSTART;TZID=UTC:20180804T090000
DTEND;TZID=UTC:20180804T220000
DTSTAMP:20260424T084823
CREATED:20180730T144440Z
LAST-MODIFIED:20180730T144450Z
UID:5293-1533373200-1533420000@albionalumni.org
SUMMARY:Rock the Park Five this weekend!
DESCRIPTION: \nIf you’re in Albion this weekend\, clear your Saturday and head over to Bullard Park on the Avenue for the Fifth Annual Rock the Park event! Live music\, food\, farmers market\, beer tent\, and craft and artisan vendors. I know a few classes are holding reunions at Rock the Park this year again! \nMore details on Facebook: https://www.facebook.com/RockBullardPark/ \n
URL:https://albionalumni.org/event/rock-the-park-five-this-weekend/
LOCATION:Bullard Park\, 12792 Route 31\, Albion\, NY\, 14411\, United States
CATEGORIES:Fundraiser,Gatherings
ATTACH;FMTTYPE=image/jpeg:https://albionalumni.org/wp-content/uploads/2018/07/36509794_1744788275575913_8999876687688630272_n.jpg
END:VEVENT
END:VCALENDAR