BEGIN:VCALENDAR
VERSION:2.0
PRODID:-//Albion High School Alumni Foundation, Inc. - ECPv4.9.10//NONSGML v1.0//EN
CALSCALE:GREGORIAN
METHOD:PUBLISH
X-WR-CALNAME:Albion High School Alumni Foundation, Inc.
X-ORIGINAL-URL:https://albionalumni.org
X-WR-CALDESC:Events for Albion High School Alumni Foundation, Inc.
BEGIN:VTIMEZONE
TZID:UTC
BEGIN:STANDARD
TZOFFSETFROM:+0000
TZOFFSETTO:+0000
TZNAME:UTC
DTSTART:20210101T000000
END:STANDARD
END:VTIMEZONE
BEGIN:VEVENT
DTSTART;TZID=UTC:20210821T160000
DTEND;TZID=UTC:20210821T233000
DTSTAMP:20260419T230013
CREATED:20210706T144002Z
LAST-MODIFIED:20210706T144435Z
UID:5867-1629561600-1629588600@albionalumni.org
SUMMARY:Class of 2011 10th Reunion
DESCRIPTION:\n*Albion Class of 2011 Ten Year Reunion* \nSaturday\, August 21st @ 4:00 PM \nAdults only. You may bring 1 guest. Cost is $20 per person. This covers cost of dinner and non alcoholic drinks. Please bring your own alcohol. \nRSVP by August 14th via PayPal @AlbionClassof2011 or Venmo @Maggie-Orbaker so we know how much food to order. \nLocation: 14221 West County House Road. Albion\, NY 14411. \nCathy Schmitt\, Cole’s mom\, has generously opened their home for us to celebrate our 10 year reunion.\nTheir property has an in-ground pool\, sand volleyball court\, outdoor bar\, and plenty of space for yard games. You are also welcome to bring a tent and/or camper if you’d like to spend the night. There will be a party tent and chairs\, but bring a lawn chair for your own comfort. \nWe are also doing a 50/50 raffle to benefit the Matthew Gardner Scholarship fund so bring cash. \nPlease spread the word because not everyone is online. There will be a post card with this basic info going out in the mail\, but if you haven’t updated your address with the Albion Alumni Foundation in the last 10 years\, it will probably be going to your parents’ house\, or wherever you lived in high school. The Alumni foundation gave me a spreadsheet with everyone’s contact info. We also plan on having a brief form to fill out at the reunion to get updated contact information. \nIf you have any questions or concerns please message me or email me at schmidthayley@gmail.com. \n\n
URL:https://albionalumni.org/event/class-of-2011-10th-reunion/
CATEGORIES:Gatherings
ATTACH;FMTTYPE=image/jpeg:https://albionalumni.org/wp-content/uploads/2020/01/OIP.jpg
END:VEVENT
END:VCALENDAR