BEGIN:VCALENDAR
VERSION:2.0
PRODID:-//Albion High School Alumni Foundation, Inc. - ECPv4.9.10//NONSGML v1.0//EN
CALSCALE:GREGORIAN
METHOD:PUBLISH
X-WR-CALNAME:Albion High School Alumni Foundation, Inc.
X-ORIGINAL-URL:https://albionalumni.org
X-WR-CALDESC:Events for Albion High School Alumni Foundation, Inc.
BEGIN:VTIMEZONE
TZID:UTC
BEGIN:STANDARD
TZOFFSETFROM:+0000
TZOFFSETTO:+0000
TZNAME:UTC
DTSTART:20190101T000000
END:STANDARD
END:VTIMEZONE
BEGIN:VEVENT
DTSTART;TZID=UTC:20190713T170000
DTEND;TZID=UTC:20190713T220000
DTSTAMP:20260419T225255
CREATED:20190509T115546Z
LAST-MODIFIED:20190509T115738Z
UID:5531-1563037200-1563055200@albionalumni.org
SUMMARY:Class of 1998 21st Reunion
DESCRIPTION: \n Class of 1998 21st Class Reunion \nSaturday\, July 13th at 5:00-10:00 pm \n….because we’re still the Kings of ’98 \n$20 Per Person \nDinner Buffet…..menu TBD….join the committee to help make decisions. \nContact Penny Soto Myler  \n  \n
URL:https://albionalumni.org/event/class-of-1998-21st-reunion/
LOCATION:Black North Inn\, 14352 Ontario Street\, Kent\, NY\, 14477\, United States
ATTACH;FMTTYPE=image/jpeg:https://albionalumni.org/wp-content/uploads/2017/02/N0810P47010C-Converted.eps_.jpg
END:VEVENT
END:VCALENDAR