BEGIN:VCALENDAR
VERSION:2.0
PRODID:-//Albion High School Alumni Foundation, Inc. - ECPv4.9.10//NONSGML v1.0//EN
CALSCALE:GREGORIAN
METHOD:PUBLISH
X-WR-CALNAME:Albion High School Alumni Foundation, Inc.
X-ORIGINAL-URL:https://albionalumni.org
X-WR-CALDESC:Events for Albion High School Alumni Foundation, Inc.
BEGIN:VTIMEZONE
TZID:UTC
BEGIN:STANDARD
TZOFFSETFROM:+0000
TZOFFSETTO:+0000
TZNAME:UTC
DTSTART:20180101T000000
END:STANDARD
END:VTIMEZONE
BEGIN:VEVENT
DTSTART;TZID=UTC:20180727T190000
DTEND;TZID=UTC:20180728T220000
DTSTAMP:20260424T053420
CREATED:20170712T134841Z
LAST-MODIFIED:20180309T140039Z
UID:4841-1532718000-1532815200@albionalumni.org
SUMMARY:Class of 1968 50th reunion!
DESCRIPTION:This is a big one\, folks! Congratulations to the class of 1968! The committee is planning several fun events for 2018: \nFri.\, July 27: reunion mixer at 7 p.m. at the Village Inn\nSat.\, July 28: golf at 9 a.m. at Hickory Ridge • school tour around 12:30 • casual picnic at 2 p.m. at Mark and Linda Restivo’s home. Catered by Chivetta’s. DJ. Tim Mazerbo.  Cost for Reunion $25.00per person \nMore information will follow as the event draws near\, so keep checking our site and our Facebook page! \nThe organizers are also looking for contact info on the following classmates: \n*Brooks\, David\n*Buckner\, Linda\n*Elwell\, Daniel\n*Hill\, Doug\n*Little\, Barbara\n*Long\, Mattie Lee\n*Manchester\, Deborah\n*Sedita\, Paul\n*Witham\, Linda \nIf you have any information\, please get in touch with the organizers. \nClass contacts are:\nJoe Canale\, joejoc17@aol.com • Cheryl Depzynski Gavenda\, cdgavenda@aol.com • Alec Sherman\, acscoach@aol.com \n
URL:https://albionalumni.org/event/class-of-1968-50th-reunion/
CATEGORIES:Gatherings
ATTACH;FMTTYPE=image/jpeg:https://albionalumni.org/wp-content/uploads/2017/02/N0810P47010C-Converted.eps_.jpg
ORGANIZER;CN="Joe%20Canale":MAILTO:joejoc17@aol.com
END:VEVENT
END:VCALENDAR