BEGIN:VCALENDAR
VERSION:2.0
PRODID:-//Albion High School Alumni Foundation, Inc. - ECPv4.9.10//NONSGML v1.0//EN
CALSCALE:GREGORIAN
METHOD:PUBLISH
X-WR-CALNAME:Albion High School Alumni Foundation, Inc.
X-ORIGINAL-URL:https://albionalumni.org
X-WR-CALDESC:Events for Albion High School Alumni Foundation, Inc.
BEGIN:VTIMEZONE
TZID:UTC
BEGIN:STANDARD
TZOFFSETFROM:+0000
TZOFFSETTO:+0000
TZNAME:UTC
DTSTART:20170101T000000
END:STANDARD
END:VTIMEZONE
BEGIN:VEVENT
DTSTART;TZID=UTC:20171203T150000
DTEND;TZID=UTC:20171203T170000
DTSTAMP:20260424T052909
CREATED:20171109T154213Z
LAST-MODIFIED:20171113T160554Z
UID:5021-1512313200-1512320400@albionalumni.org
SUMMARY:An Albion Family Christmas Concert
DESCRIPTION: \nJoin us for special performances by:\nThe United Methodist Bell Choir • Crandall\, Wood\, & Main\nBill Pileggi • Alec Sherman • Dale Smalley\nAHS Instrumental Ensembles • AHS Men’s & Women’s Select Choirs\nBill Lattin sharing Christmas Reminiscences \nThe concert is Sun.\, Dec. 3 at 3 p.m. at the First Presbyterian Church\, 29 E . State St.\, Albion \nPresented by the Albion High School Alumni Foundation and Albion Courthouse Square. \nTICKETS: $5   Proceeds benefit the AHS Alumni Foundation. \nALBION: Bloom’s Flower Shop  • Hazy Jade  •  Albion Agencies \nYou can also buy your ticket online via PayPal using the link below: \n\n\n\n\n\n\n\n\n
URL:https://albionalumni.org/event/an-albion-family-christmas-concert-2/
LOCATION:Albion First Presbyterian Church\, 29 E. State Street\, Albion\, NY\, 14411\, United States
CATEGORIES:Fundraiser,Gatherings,Main
END:VEVENT
END:VCALENDAR